BEGIN:VCALENDAR
VERSION:2.0
PRODID:-//Ville de Portet-sur-Garonne - ECPv6.15.18//NONSGML v1.0//EN
CALSCALE:GREGORIAN
METHOD:PUBLISH
X-WR-CALNAME:Ville de Portet-sur-Garonne
X-ORIGINAL-URL:https://www.portetgaronne.fr
X-WR-CALDESC:Évènements pour Ville de Portet-sur-Garonne
REFRESH-INTERVAL;VALUE=DURATION:PT1H
X-Robots-Tag:noindex
X-PUBLISHED-TTL:PT1H
BEGIN:VTIMEZONE
TZID:Europe/Paris
BEGIN:DAYLIGHT
TZOFFSETFROM:+0100
TZOFFSETTO:+0200
TZNAME:CEST
DTSTART:20250330T010000
END:DAYLIGHT
BEGIN:STANDARD
TZOFFSETFROM:+0200
TZOFFSETTO:+0100
TZNAME:CET
DTSTART:20251026T010000
END:STANDARD
BEGIN:DAYLIGHT
TZOFFSETFROM:+0100
TZOFFSETTO:+0200
TZNAME:CEST
DTSTART:20260329T010000
END:DAYLIGHT
BEGIN:STANDARD
TZOFFSETFROM:+0200
TZOFFSETTO:+0100
TZNAME:CET
DTSTART:20261025T010000
END:STANDARD
BEGIN:DAYLIGHT
TZOFFSETFROM:+0100
TZOFFSETTO:+0200
TZNAME:CEST
DTSTART:20270328T010000
END:DAYLIGHT
BEGIN:STANDARD
TZOFFSETFROM:+0200
TZOFFSETTO:+0100
TZNAME:CET
DTSTART:20271031T010000
END:STANDARD
END:VTIMEZONE
BEGIN:VEVENT
DTSTART;TZID=Europe/Paris:20260401T140000
DTEND;TZID=Europe/Paris:20260729T180000
DTSTAMP:20260422T021152
CREATED:20260106T151647Z
LAST-MODIFIED:20260106T151647Z
UID:26340-1775052000-1785348000@www.portetgaronne.fr
SUMMARY:Exposition | Le rôle de la Résistance dans la Libération de la France
DESCRIPTION:Réalisée par la Fondation de la Résistance \nÀ l’occasion du 80ème anniversaire de la Libération\, la Fondation de la Résistance présente l’exposition itinérante « Le rôle de la Résistance dans la Libération de la France ». \nL’exposition explore le rôle déterminant des résistants. « L’armée des ombres » n’a pas seulement pris les armes\, mais elle a aussi mené un travail de renseignement essentiel pour le succès du débarquement du 6 juin 1944 et pour faciliter la progression des forces alliées\, alors que la résistance allemande se révèle plus forte que prévue. L’exposition met en lumière son action\, souvent méconnue ou mal évaluée\, et montre comment elle a contribué à la réussite des opérations alliées et à la libération du pays. \nVERNISSAGE : Jeudi 7 mai à 18h30 \nDu 1er avril au 29 juillet. Musée de la Mémoire.\nEntrée libre. Tout public. \nRenseignements : Musée de la Mémoire – 05 62 20 18 74 ou 06 08 55 52 74
URL:https://www.portetgaronne.fr/evenement/exposition-le-role-de-la-resistance-dans-la-liberation-de-la-france/
LOCATION:Musée de la Mémoire\, Allée du Grand Chêne\, Portet-sur-Garonne\, 31120
CATEGORIES:Exposition
ATTACH;FMTTYPE=image/webp:https://www.portetgaronne.fr/wp-content/uploads/2026/01/EXpo_Le-role-de-la-Resistance_avril-2026.webp
END:VEVENT
BEGIN:VEVENT
DTSTART;TZID=Europe/Paris:20260408T090000
DTEND;TZID=Europe/Paris:20260528T190000
DTSTAMP:20260422T021152
CREATED:20260106T153339Z
LAST-MODIFIED:20260106T153647Z
UID:26349-1775638800-1779994800@www.portetgaronne.fr
SUMMARY:Exposition | La nature au fil des saisons
DESCRIPTION:Réalisée par Louis Ferries-Casteras \nUne exposition pour petits et grands\, au cœur du génie de la nature\, à travers le regard du naturaliste. \nPhotographe amateur passionné\, Louis consacre son temps à l’observation et au recensement des orchidées sauvages et des oiseaux de nos régions. Il nous invite ici à redécouvrir la richesse et la diversité du vivant qui nous entoure. Des orchidées des campagnes aux oiseaux des sommets\, les clichés présentés témoignent de la beauté et de la fragilité de notre environnement. Les paysages du Lauragais et de la Montagne Noire y occupent une place de choix\, rappelant que l’extraordinaire se niche souvent dans l’ordinaire. Une invitation à porter un regard attentif sur la nature proche de chez nous. \nVente sur place du livre « À la découverte des orchidées du Lauragais » (15€)\nVERNISSAGE : Jeudi 21 mai à 19h \nDu 8 avril au 28 mai. Château de Portet.\nEntrée libre. Tout public.\nRenseignements : Château de Portet – 05 61 76 29 31
URL:https://www.portetgaronne.fr/evenement/exposition-la-nature-au-fil-des-saisons/
LOCATION:Château de Portet\, 1 rue Robert Saintigny\, Portet-sur-Garonne\, 31120
CATEGORIES:Exposition
ATTACH;FMTTYPE=image/jpeg:https://www.portetgaronne.fr/wp-content/uploads/2026/01/La-Nature-au-fil-des-saisons-scaled.jpg
END:VEVENT
BEGIN:VEVENT
DTSTART;TZID=Europe/Paris:20260422T153000
DTEND;TZID=Europe/Paris:20260422T162000
DTSTAMP:20260422T021152
CREATED:20260107T085145Z
LAST-MODIFIED:20260107T085145Z
UID:26381-1776871800-1776874800@www.portetgaronne.fr
SUMMARY:Jeune public | Papinocchio
DESCRIPTION:Par la compagnie du petit matin \nEt si l’on confiait à Pinocchio lui-même le soin de raconter son histoire ? Mais attention… pas le Pinocchio de nos souvenirs d’enfance ! Non\, un Pinocchio qui a traversé les âges\, les planches\, les mensonges et les vérités. Un Pinocchio devenu Papi. Un Papinocchio ! \nCar voilà longtemps qu’il en rêve : se raconter enfin\, revivre ses aventures\, ses émois\, ses métamorphoses. Comme un écho venu du temps\, un souffle de bois et de mémoire. Pour donner corps à ce voyage poétique et burlesque\, Papinocchio se déploie en trois figures : un Papi musicien\, entre contrebasse et zenco ; un Papi danseur\, en hip-hop rêveur ; et un Papi conteur\, qui tisse le fil de l’histoire. Trois visages\, trois souffles\, une seule âme. Ici\, l’enfant de bois devenu grand invite petits et grands à replonger avec lui dans le merveilleux théâtre de ses souvenirs. \nÀ partir de 6 ans – Durée : 50 min \nMercredi 22 avril à 15h30. Salle Angèle del Rio Bettini.\nEntrée gratuite. Inscription obligatoire.\nRenseignements et inscriptions : Château de Portet – 05 61 76 29 31
URL:https://www.portetgaronne.fr/evenement/jeune-public-papinocchio/
LOCATION:Salle Angèle del Rio Bettini\, Maison de Quartier du Récébédou - allée du Grand Chêne\, Portet-sur-Garonne\, 31120
CATEGORIES:Jeune public
ATTACH;FMTTYPE=image/jpeg:https://www.portetgaronne.fr/wp-content/uploads/2026/01/Papinok-FullHD-10-scaled.jpg
END:VEVENT
END:VCALENDAR