BEGIN:VCALENDAR
VERSION:2.0
PRODID:-//Ville de Portet-sur-Garonne - ECPv6.15.18//NONSGML v1.0//EN
CALSCALE:GREGORIAN
METHOD:PUBLISH
X-ORIGINAL-URL:https://www.portetgaronne.fr
X-WR-CALDESC:Évènements pour Ville de Portet-sur-Garonne
REFRESH-INTERVAL;VALUE=DURATION:PT1H
X-Robots-Tag:noindex
X-PUBLISHED-TTL:PT1H
BEGIN:VTIMEZONE
TZID:Europe/Paris
BEGIN:DAYLIGHT
TZOFFSETFROM:+0100
TZOFFSETTO:+0200
TZNAME:CEST
DTSTART:20250330T010000
END:DAYLIGHT
BEGIN:STANDARD
TZOFFSETFROM:+0200
TZOFFSETTO:+0100
TZNAME:CET
DTSTART:20251026T010000
END:STANDARD
BEGIN:DAYLIGHT
TZOFFSETFROM:+0100
TZOFFSETTO:+0200
TZNAME:CEST
DTSTART:20260329T010000
END:DAYLIGHT
BEGIN:STANDARD
TZOFFSETFROM:+0200
TZOFFSETTO:+0100
TZNAME:CET
DTSTART:20261025T010000
END:STANDARD
BEGIN:DAYLIGHT
TZOFFSETFROM:+0100
TZOFFSETTO:+0200
TZNAME:CEST
DTSTART:20270328T010000
END:DAYLIGHT
BEGIN:STANDARD
TZOFFSETFROM:+0200
TZOFFSETTO:+0100
TZNAME:CET
DTSTART:20271031T010000
END:STANDARD
END:VTIMEZONE
BEGIN:VEVENT
DTSTART;TZID=Europe/Paris:20260615T090000
DTEND;TZID=Europe/Paris:20260717T173000
DTSTAMP:20260421T163506
CREATED:20260107T110331Z
LAST-MODIFIED:20260107T110331Z
UID:26408-1781514000-1784309400@www.portetgaronne.fr
SUMMARY:Au Confluent des Arts
DESCRIPTION:Avec les élèves des ateliers culturels municipaux \nRendez-vous incontournable de la fin d’année scolaire\, le très attendu « Au Confluent des Arts »\, revient en juin pour une 13ème édition toujours aussi festive. Véritable fête des arts\, cette manifestation fait la part belle aux créations réalisées tout au long de l’année par tous les élèves des ateliers culturels municipaux. \nExposition Kid’s Art\nDu 15 juin au 17 juillet\nTout au long de l’année\, les jeunes artistes portésiens explorent la diversité des regards portés sur l’art d’aujourd’hui. Le temps d’une exposition\, ils nous invitent à découvrir la richesse de leur univers\ncréatif.\n> Dimanche 21 juin à 10h\nVernissage et brunch de l’exposition Kid’s Art au Château de Portet. \n Jeudi 18 juin à la salle Angèle del Rio Bettini\nSpectacle de théâtre adulte \n> Samedi 20 juin à la salle Angèle del Rio Bettini\nSpectacle de théâtre enfant \n> Jeudi 2 juillet à la salle du Confluent\nGala de danse \nDu 15 juin au 17 juillet. Château de Portet – Salle du Confluent – Salle Angèle del Rio Bettini.\nEntrée gratuite. Renseignements : Château de Portet – 05 61 76 29 31.
URL:https://www.portetgaronne.fr/evenement/au-confluent-des-arts/
LOCATION:Château de Portet\, 1 rue Robert Saintigny\, Portet-sur-Garonne\, 31120
CATEGORIES:Événement
ATTACH;FMTTYPE=image/jpeg:https://www.portetgaronne.fr/wp-content/uploads/2026/01/Confluent-des-Arts-1-scaled.jpg
END:VEVENT
BEGIN:VEVENT
DTSTART;TZID=Europe/Paris:20260717T213000
DTEND;TZID=Europe/Paris:20260718T220000
DTSTAMP:20260421T163506
CREATED:20260107T154330Z
LAST-MODIFIED:20260217T073119Z
UID:26423-1784323800-1784412000@www.portetgaronne.fr
SUMMARY:Journées d’été
DESCRIPTION:Dernier rendez-vous festif de l’été proposé par la Ville\, les traditionnelles Journées d’été proposent une nouvelle fois un programme estival éclectique et coloré : spectacle de rue\, moment musical\, animations pour les plus jeunes… il y en a pour tous les goûts ! \nVendredi 17 juillet à 21h30\nConcert « Un P’tit Gars Du Coin »\nAvec son énergie communicative et ses influences mêlant rock\, reggae\, ska et rap\, le groupe fera danser tous les publics ! Portés par des textes aux thèmes variés\, les musiciens portent un message de vivre-ensemble et s’interrogent sur les enjeux environnementaux. \nSamedi 18 juillet\n15h : Jeux d’eau gonflables\n20h30 : Spectacle « Déséquilibre passager ! » \nPar la compagnie Emergente\nUn spectacle résolument vintage\, mêlant tradition banquiste et clown contemporain. Entre virtuosité\, improvisation et humour\, l’artiste propose un jonglage aussi surprenant qu’irrésistible ! Un spectacle familial qui promet un mélange savoureux de performances visuelles et de rires partagés. \nVendredi 17 et Samedi 18 juillet. Ramier des berges de Garonne.\nEntrée gratuite. Restauration possible sur place.\nRenseignements : Château de Portet – 05 61 76 29 31.
URL:https://www.portetgaronne.fr/evenement/journees-dete/
LOCATION:Ramier des berges de Garonne
CATEGORIES:Événement
ATTACH;FMTTYPE=image/jpeg:https://www.portetgaronne.fr/wp-content/uploads/2026/01/Desequilibre-passager-Copyright-JulieLefort-scaled.jpg
END:VEVENT
END:VCALENDAR