BEGIN:VCALENDAR
VERSION:2.0
PRODID:-//Ville de Portet-sur-Garonne - ECPv6.15.18//NONSGML v1.0//EN
CALSCALE:GREGORIAN
METHOD:PUBLISH
X-ORIGINAL-URL:https://www.portetgaronne.fr
X-WR-CALDESC:Évènements pour Ville de Portet-sur-Garonne
REFRESH-INTERVAL;VALUE=DURATION:PT1H
X-Robots-Tag:noindex
X-PUBLISHED-TTL:PT1H
BEGIN:VTIMEZONE
TZID:Europe/Paris
BEGIN:DAYLIGHT
TZOFFSETFROM:+0100
TZOFFSETTO:+0200
TZNAME:CEST
DTSTART:20250330T010000
END:DAYLIGHT
BEGIN:STANDARD
TZOFFSETFROM:+0200
TZOFFSETTO:+0100
TZNAME:CET
DTSTART:20251026T010000
END:STANDARD
BEGIN:DAYLIGHT
TZOFFSETFROM:+0100
TZOFFSETTO:+0200
TZNAME:CEST
DTSTART:20260329T010000
END:DAYLIGHT
BEGIN:STANDARD
TZOFFSETFROM:+0200
TZOFFSETTO:+0100
TZNAME:CET
DTSTART:20261025T010000
END:STANDARD
BEGIN:DAYLIGHT
TZOFFSETFROM:+0100
TZOFFSETTO:+0200
TZNAME:CEST
DTSTART:20270328T010000
END:DAYLIGHT
BEGIN:STANDARD
TZOFFSETFROM:+0200
TZOFFSETTO:+0100
TZNAME:CET
DTSTART:20271031T010000
END:STANDARD
END:VTIMEZONE
BEGIN:VEVENT
DTSTART;TZID=Europe/Paris:20260613T140000
DTEND;TZID=Europe/Paris:20260613T180000
DTSTAMP:20260421T164227
CREATED:20260107T105149Z
LAST-MODIFIED:20260107T105149Z
UID:26402-1781359200-1781373600@www.portetgaronne.fr
SUMMARY:Quartier d’été au Récébédou
DESCRIPTION:Avec la participation des associations\, des ALAE et des écoles du quartier \nCette année encore\, le Récébédou se transforme le temps d’une après-midi en une grande cour de récré pour une fête bourdonnante d’animations. \nPetits et grands sont invités à profiter d’une multitude d’activités ludiques\, sportives\, culturelles\, artistiques et citoyennes\, pensées pour éveiller la curiosité\, stimuler la créativité et surtout… s’amuser ensemble ! Que vous veniez pour quelques heures ou pour toute l’après-midi\, vous y trouverez forcément de quoi passer un moment convivial et joyeux. \nRestauration possible sur place\nPlus d’informations au cours de l’année \nSamedi 13 juin à partir de 14h. Autour de la Maison de Quartier.\nEntrée gratuite. Renseignements : Château de Portet – 05 61 76 29 31
URL:https://www.portetgaronne.fr/evenement/quartier-dete-au-recebedou/
LOCATION:Maison de Quartier du Récébédou\, Allée du Grand Chêne\, Portet-sur-Garonne\, 31120\, France
CATEGORIES:Événement
ATTACH;FMTTYPE=image/jpeg:https://www.portetgaronne.fr/wp-content/uploads/2026/01/Quartier-dete-scaled.jpg
END:VEVENT
END:VCALENDAR